BEGIN:VCALENDAR
VERSION:2.0
PRODID:-//The Cozy Rosy Glamp Ground - ECPv6.15.20//NONSGML v1.0//EN
CALSCALE:GREGORIAN
METHOD:PUBLISH
X-ORIGINAL-URL:https://thecozyrosy.com
X-WR-CALDESC:Events for The Cozy Rosy Glamp Ground
REFRESH-INTERVAL;VALUE=DURATION:PT1H
X-Robots-Tag:noindex
X-PUBLISHED-TTL:PT1H
BEGIN:VTIMEZONE
TZID:America/Chicago
BEGIN:DAYLIGHT
TZOFFSETFROM:-0600
TZOFFSETTO:-0500
TZNAME:CDT
DTSTART:20250309T080000
END:DAYLIGHT
BEGIN:STANDARD
TZOFFSETFROM:-0500
TZOFFSETTO:-0600
TZNAME:CST
DTSTART:20251102T070000
END:STANDARD
BEGIN:DAYLIGHT
TZOFFSETFROM:-0600
TZOFFSETTO:-0500
TZNAME:CDT
DTSTART:20260308T080000
END:DAYLIGHT
BEGIN:STANDARD
TZOFFSETFROM:-0500
TZOFFSETTO:-0600
TZNAME:CST
DTSTART:20261101T070000
END:STANDARD
BEGIN:DAYLIGHT
TZOFFSETFROM:-0600
TZOFFSETTO:-0500
TZNAME:CDT
DTSTART:20270314T080000
END:DAYLIGHT
BEGIN:STANDARD
TZOFFSETFROM:-0500
TZOFFSETTO:-0600
TZNAME:CST
DTSTART:20271107T070000
END:STANDARD
END:VTIMEZONE
BEGIN:VEVENT
DTSTART;TZID=America/Chicago:20260403T180000
DTEND;TZID=America/Chicago:20260403T210000
DTSTAMP:20260423T113913
CREATED:20260126T184534Z
LAST-MODIFIED:20260126T184540Z
UID:1079-1775239200-1775250000@thecozyrosy.com
SUMMARY:Jamell Richardson Solo
DESCRIPTION:Mr. Jamell Richardson was born in Meridian\, MS and raised in the small town of Butler\, AL \n\n\n\nJamell’s musical journey all started shortly after the day he was born. His Grandmother who was a church pastor carried him to church with her every chance she could. By the age of one Jamell\, was already being influenced by all the church musicians\, with his grandmother taking notice to his interest in music she decided to buy him his first guitar. By age 11 he was already an active studio and church musician as well as a vocalist. With his inspiration spawning from being raised in the church\, Jamell groomed his skills playing behind numerous gospel quartet groups\, from Rance Allen\, Paul Beasley\, to Donnie McClurkin\, Marvin Sapp and a number of other well- known gospel acts. As he matured\, Jamell began to expand his horizons by listening to B.B. King\, Jimi Hendrix\, George Benson\, Eric Johnson\, and many more which lead to his growing interest in other genres especially the blues. By 2012 he was on the road touring and recording with the legendary Southern Soul Bluesman Mel Waiters. There is where he quickly began to shine being featured as Mel Waiters’ “Young Gun” and “Phenomenal Guitar Player” capturing every moment he was called on for his electric solos\, he became a youtube sensation and one of the most memorable parts of the show. Fall 2013 with Jamell’s music career taking off he also got introduced to acting\, when he was cast as guitarist Jimmy Nolen in the upcoming movie “Get On Up\,” (August 1\, 2014 – Produced by Mick Jagger and Brian Grazer- Featuring\, Chadwick Boseman\, Dan Aykroyd\, Jill Scott\, Tika Sumpter\, Craig Robinson\, Nelsan Ellis) Not only did Jamell play James Brown’s long time friend and musician Jimmy Nolen\, but he also worked as the movie’s guitar instructor and coach. He taught everyone from Top 10 Billboard recording artist Aloe Blacc to Keith Robinson (Dream Girls)\, and a number of other cast members from the film. So far in his short career as a musician he has had the opportunity to share the stage with legends such as Bobby Womack\, Lenny Williams\, Bobby Bland\, Latimore\, Al Green\, Shirley Brown\, Denise LaSalle\, Millie Jackson\, and many more blues legends. \n\n\n\nPerforming on stage today\, Jamell is known for his “B.B. King-like” facial expressions\, Jimi Hendrix style guitar tricks\, his strong soulful voice and his incredible stage presents. When asked how he would describe himself to his fans he responded\, “I am a hard-working\, humble\, and lovable musician. I have a strong passion for perfection. I love to joke around and make people laugh\, but when it comes to music there is nothing I love more than entertaining my fans and sending them home knowing they got their moneys worth.”
URL:https://thecozyrosy.com/event/jamell-richardson-solo/
END:VEVENT
END:VCALENDAR