BEGIN:VCALENDAR
VERSION:2.0
PRODID:-//The Cozy Rosy Glamp Ground - ECPv6.15.20//NONSGML v1.0//EN
CALSCALE:GREGORIAN
METHOD:PUBLISH
X-ORIGINAL-URL:https://thecozyrosy.com
X-WR-CALDESC:Events for The Cozy Rosy Glamp Ground
REFRESH-INTERVAL;VALUE=DURATION:PT1H
X-Robots-Tag:noindex
X-PUBLISHED-TTL:PT1H
BEGIN:VTIMEZONE
TZID:America/Chicago
BEGIN:DAYLIGHT
TZOFFSETFROM:-0600
TZOFFSETTO:-0500
TZNAME:CDT
DTSTART:20250309T080000
END:DAYLIGHT
BEGIN:STANDARD
TZOFFSETFROM:-0500
TZOFFSETTO:-0600
TZNAME:CST
DTSTART:20251102T070000
END:STANDARD
BEGIN:DAYLIGHT
TZOFFSETFROM:-0600
TZOFFSETTO:-0500
TZNAME:CDT
DTSTART:20260308T080000
END:DAYLIGHT
BEGIN:STANDARD
TZOFFSETFROM:-0500
TZOFFSETTO:-0600
TZNAME:CST
DTSTART:20261101T070000
END:STANDARD
BEGIN:DAYLIGHT
TZOFFSETFROM:-0600
TZOFFSETTO:-0500
TZNAME:CDT
DTSTART:20270314T080000
END:DAYLIGHT
BEGIN:STANDARD
TZOFFSETFROM:-0500
TZOFFSETTO:-0600
TZNAME:CST
DTSTART:20271107T070000
END:STANDARD
END:VTIMEZONE
BEGIN:VEVENT
DTSTART;TZID=America/Chicago:20260418T180000
DTEND;TZID=America/Chicago:20260418T210000
DTSTAMP:20260423T113915
CREATED:20260126T185511Z
LAST-MODIFIED:20260126T185516Z
UID:1087-1776535200-1776546000@thecozyrosy.com
SUMMARY:The Terrapins
DESCRIPTION:The Terrapins band are gulf coast locals playing the music they love by the Grateful Dead\, Allman Bros\, Beatles\, and more. With a focus on improvisation and jamming\, they will keep the grooves going all evening long.
URL:https://thecozyrosy.com/event/the-terrapins/
END:VEVENT
END:VCALENDAR