BEGIN:VCALENDAR
VERSION:2.0
PRODID:-//The Cozy Rosy Glamp Ground - ECPv6.15.20//NONSGML v1.0//EN
CALSCALE:GREGORIAN
METHOD:PUBLISH
X-WR-CALNAME:The Cozy Rosy Glamp Ground
X-ORIGINAL-URL:https://thecozyrosy.com
X-WR-CALDESC:Events for The Cozy Rosy Glamp Ground
REFRESH-INTERVAL;VALUE=DURATION:PT1H
X-Robots-Tag:noindex
X-PUBLISHED-TTL:PT1H
BEGIN:VTIMEZONE
TZID:America/Chicago
BEGIN:DAYLIGHT
TZOFFSETFROM:-0600
TZOFFSETTO:-0500
TZNAME:CDT
DTSTART:20250309T080000
END:DAYLIGHT
BEGIN:STANDARD
TZOFFSETFROM:-0500
TZOFFSETTO:-0600
TZNAME:CST
DTSTART:20251102T070000
END:STANDARD
BEGIN:DAYLIGHT
TZOFFSETFROM:-0600
TZOFFSETTO:-0500
TZNAME:CDT
DTSTART:20260308T080000
END:DAYLIGHT
BEGIN:STANDARD
TZOFFSETFROM:-0500
TZOFFSETTO:-0600
TZNAME:CST
DTSTART:20261101T070000
END:STANDARD
BEGIN:DAYLIGHT
TZOFFSETFROM:-0600
TZOFFSETTO:-0500
TZNAME:CDT
DTSTART:20270314T080000
END:DAYLIGHT
BEGIN:STANDARD
TZOFFSETFROM:-0500
TZOFFSETTO:-0600
TZNAME:CST
DTSTART:20271107T070000
END:STANDARD
END:VTIMEZONE
BEGIN:VEVENT
DTSTART;TZID=America/Chicago:20260502T180000
DTEND;TZID=America/Chicago:20260502T210000
DTSTAMP:20260423T113726
CREATED:20260126T180633Z
LAST-MODIFIED:20260126T180640Z
UID:1063-1777744800-1777755600@thecozyrosy.com
SUMMARY:Karley Nichols & The Common Cents
DESCRIPTION:Karley Nichols & The Common Cents is a Mississippi-based band led by dual female vocalists Karley Nichols and Kelsey Smith\, who share lead vocals and keys. Blending pop\, rock\, alternative\, southern rock\, and neo-soul\, their sound draws from ’90s and early 2000s influences like Alanis Morissette\, Paramore\, Fleetwood Mac\, and The Beatles. Known for tight harmonies and energetic live shows\, the band mixes nostalgic favorites with original\, hook driven songs.
URL:https://thecozyrosy.com/event/karley-nichols-the-common-cents/
END:VEVENT
END:VCALENDAR