BEGIN:VCALENDAR
VERSION:2.0
PRODID:-//The Cozy Rosy Glamp Ground - ECPv6.15.20//NONSGML v1.0//EN
CALSCALE:GREGORIAN
METHOD:PUBLISH
X-ORIGINAL-URL:https://thecozyrosy.com
X-WR-CALDESC:Events for The Cozy Rosy Glamp Ground
REFRESH-INTERVAL;VALUE=DURATION:PT1H
X-Robots-Tag:noindex
X-PUBLISHED-TTL:PT1H
BEGIN:VTIMEZONE
TZID:America/Chicago
BEGIN:DAYLIGHT
TZOFFSETFROM:-0600
TZOFFSETTO:-0500
TZNAME:CDT
DTSTART:20250309T080000
END:DAYLIGHT
BEGIN:STANDARD
TZOFFSETFROM:-0500
TZOFFSETTO:-0600
TZNAME:CST
DTSTART:20251102T070000
END:STANDARD
BEGIN:DAYLIGHT
TZOFFSETFROM:-0600
TZOFFSETTO:-0500
TZNAME:CDT
DTSTART:20260308T080000
END:DAYLIGHT
BEGIN:STANDARD
TZOFFSETFROM:-0500
TZOFFSETTO:-0600
TZNAME:CST
DTSTART:20261101T070000
END:STANDARD
BEGIN:DAYLIGHT
TZOFFSETFROM:-0600
TZOFFSETTO:-0500
TZNAME:CDT
DTSTART:20270314T080000
END:DAYLIGHT
BEGIN:STANDARD
TZOFFSETFROM:-0500
TZOFFSETTO:-0600
TZNAME:CST
DTSTART:20271107T070000
END:STANDARD
END:VTIMEZONE
BEGIN:VEVENT
DTSTART;TZID=America/Chicago:20260508T180000
DTEND;TZID=America/Chicago:20260508T210000
DTSTAMP:20260423T130446
CREATED:20260126T190001Z
LAST-MODIFIED:20260126T190008Z
UID:1093-1778263200-1778274000@thecozyrosy.com
SUMMARY:Sugarcane Jane
DESCRIPTION:Sugarcane Jane\, the Alabama based Americana duo comprised of husband and wife Anthony Crawford (vocals\, acoustic guitar\, harmonica\, kick drum) and Savana Lee (vocals\, bass guitar)\, have been crafting music deeply rooted in folk rock for over a decade. They are adored for their homegrown brand of mostly acoustic Americana\, drawing influences from Anthony’s prior bandmates such as Neil Young\, Steve Winwood\, and Dwight Yoakam. \n\n\n\nPress Quotes: \n\n\n\n“Ladders and Edges is all of the instrumental prowess\, tight harmonies\, and diverse gospel\, country\, rock\, and swamp influences you’d expect\, with a serious rock and roll punch up from Colin Linden.” – AXS \n\n\n\n“Ladders & Edges is marked by layer after layer of rich and lovely instrumentation with acoustic guitar in the forefront.” – Lagniappe \n\n\n\n“They enrich our lives with something very personal and intimate with the latest release\, Ladders and Edges.” – The Southland Music Line
URL:https://thecozyrosy.com/event/sugarcane-jane-2/
END:VEVENT
END:VCALENDAR