BEGIN:VCALENDAR
VERSION:2.0
PRODID:-//The Cozy Rosy Glamp Ground - ECPv6.15.20//NONSGML v1.0//EN
CALSCALE:GREGORIAN
METHOD:PUBLISH
X-WR-CALNAME:The Cozy Rosy Glamp Ground
X-ORIGINAL-URL:https://thecozyrosy.com
X-WR-CALDESC:Events for The Cozy Rosy Glamp Ground
REFRESH-INTERVAL;VALUE=DURATION:PT1H
X-Robots-Tag:noindex
X-PUBLISHED-TTL:PT1H
BEGIN:VTIMEZONE
TZID:America/Chicago
BEGIN:DAYLIGHT
TZOFFSETFROM:-0600
TZOFFSETTO:-0500
TZNAME:CDT
DTSTART:20250309T080000
END:DAYLIGHT
BEGIN:STANDARD
TZOFFSETFROM:-0500
TZOFFSETTO:-0600
TZNAME:CST
DTSTART:20251102T070000
END:STANDARD
BEGIN:DAYLIGHT
TZOFFSETFROM:-0600
TZOFFSETTO:-0500
TZNAME:CDT
DTSTART:20260308T080000
END:DAYLIGHT
BEGIN:STANDARD
TZOFFSETFROM:-0500
TZOFFSETTO:-0600
TZNAME:CST
DTSTART:20261101T070000
END:STANDARD
BEGIN:DAYLIGHT
TZOFFSETFROM:-0600
TZOFFSETTO:-0500
TZNAME:CDT
DTSTART:20270314T080000
END:DAYLIGHT
BEGIN:STANDARD
TZOFFSETFROM:-0500
TZOFFSETTO:-0600
TZNAME:CST
DTSTART:20271107T070000
END:STANDARD
END:VTIMEZONE
BEGIN:VEVENT
DTSTART;TZID=America/Chicago:20260516T180000
DTEND;TZID=America/Chicago:20260516T210000
DTSTAMP:20260423T130251
CREATED:20260126T190159Z
LAST-MODIFIED:20260126T190207Z
UID:1095-1778954400-1778965200@thecozyrosy.com
SUMMARY:Drew Fulton & The Showtime Strangers
DESCRIPTION:Hailing from Gulfport\, Mississippi\, Drew Fulton is a seasoned singer-songwriter who has beena cornerstone of the Mississippi Gulf Coast music scene since 2015. Known for his dynamicvocals and heartfelt songwriting\, Fulton made his mark as the frontman for acclaimed Southernrock bands Magnolia Bayou and The Heavy Strides\, captivating audiences with high-energyperformances and a sound steeped in Southern soul and rock ‘n’ roll tradition.His band blends country\, grunge\, folk\, and roots rock\, and in doing so it draws from the heart of the AmericanSouth—raw\, honest\, and unafraid to blur genre lines.
URL:https://thecozyrosy.com/event/drew-fulton-the-showtime-strangers/
END:VEVENT
END:VCALENDAR