BEGIN:VCALENDAR
VERSION:2.0
PRODID:-//The Cozy Rosy Glamp Ground - ECPv6.15.20//NONSGML v1.0//EN
CALSCALE:GREGORIAN
METHOD:PUBLISH
X-WR-CALNAME:The Cozy Rosy Glamp Ground
X-ORIGINAL-URL:https://thecozyrosy.com
X-WR-CALDESC:Events for The Cozy Rosy Glamp Ground
REFRESH-INTERVAL;VALUE=DURATION:PT1H
X-Robots-Tag:noindex
X-PUBLISHED-TTL:PT1H
BEGIN:VTIMEZONE
TZID:America/Chicago
BEGIN:DAYLIGHT
TZOFFSETFROM:-0600
TZOFFSETTO:-0500
TZNAME:CDT
DTSTART:20250309T080000
END:DAYLIGHT
BEGIN:STANDARD
TZOFFSETFROM:-0500
TZOFFSETTO:-0600
TZNAME:CST
DTSTART:20251102T070000
END:STANDARD
BEGIN:DAYLIGHT
TZOFFSETFROM:-0600
TZOFFSETTO:-0500
TZNAME:CDT
DTSTART:20260308T080000
END:DAYLIGHT
BEGIN:STANDARD
TZOFFSETFROM:-0500
TZOFFSETTO:-0600
TZNAME:CST
DTSTART:20261101T070000
END:STANDARD
BEGIN:DAYLIGHT
TZOFFSETFROM:-0600
TZOFFSETTO:-0500
TZNAME:CDT
DTSTART:20270314T080000
END:DAYLIGHT
BEGIN:STANDARD
TZOFFSETFROM:-0500
TZOFFSETTO:-0600
TZNAME:CST
DTSTART:20271107T070000
END:STANDARD
END:VTIMEZONE
BEGIN:VEVENT
DTSTART;TZID=America/Chicago:20260522T180000
DTEND;TZID=America/Chicago:20260522T210000
DTSTAMP:20260423T142555
CREATED:20260222T162255Z
LAST-MODIFIED:20260222T162300Z
UID:1132-1779472800-1779483600@thecozyrosy.com
SUMMARY:Blue Mother Tupelo
DESCRIPTION:Blue Mother Tupelo live in concert at The Shed Barbecue & Blues Joint in beautiful Ocean Springs\, Mississippi! About The Shed Barbecue & Blues Joint: The Shed’s not a fancy restaurant. It’s not a restaurant at all. It’s a full fledged JOINT!The Shed is an Experience\, a Destination to enjoy. ShedHeds bring their families\, sit around the bonfires\, eat the fantastic award-winning BBQ\, enjoy Ice-Cold Beer\, and listen to Great Live Music. Get Fed at The Shed!Love Offering Welcomed & Appreciated!
URL:https://thecozyrosy.com/event/blue-mother-tupelo/
END:VEVENT
BEGIN:VEVENT
DTSTART;TZID=America/Chicago:20260529T180000
DTEND;TZID=America/Chicago:20260529T210000
DTSTAMP:20260423T142555
CREATED:20260126T190430Z
LAST-MODIFIED:20260126T190437Z
UID:1097-1780077600-1780088400@thecozyrosy.com
SUMMARY:Basch Jernigan Trio
DESCRIPTION:Basch Jernigan Trio is a New Orleans rooted project that combines elements of blues\, folk\, and soul inspired by artists such as Taj Mahal and The Wood Brothers. The band includes Jernigan on vocals/guitar/harmonica\, Tyler Self on bass\, and Dennis Aoun on drums
URL:https://thecozyrosy.com/event/basch-jernigan-trio/
END:VEVENT
BEGIN:VEVENT
DTSTART;TZID=America/Chicago:20260613T180000
DTEND;TZID=America/Chicago:20260613T210000
DTSTAMP:20260423T142555
CREATED:20260126T190657Z
LAST-MODIFIED:20260126T190702Z
UID:1099-1781373600-1781384400@thecozyrosy.com
SUMMARY:deFrance
DESCRIPTION:deFrance formed from the muddy banks of the Ouachita River in the vest pocket town of Camden\, Arkansas. Called the “hardest working band in Arkansas\,” the band is closing in on 1\,000 shows
URL:https://thecozyrosy.com/event/defrance-2/
END:VEVENT
END:VCALENDAR