BEGIN:VCALENDAR
VERSION:2.0
PRODID:-//The Cozy Rosy Glamp Ground - ECPv6.15.20//NONSGML v1.0//EN
CALSCALE:GREGORIAN
METHOD:PUBLISH
X-WR-CALNAME:The Cozy Rosy Glamp Ground
X-ORIGINAL-URL:https://thecozyrosy.com
X-WR-CALDESC:Events for The Cozy Rosy Glamp Ground
REFRESH-INTERVAL;VALUE=DURATION:PT1H
X-Robots-Tag:noindex
X-PUBLISHED-TTL:PT1H
BEGIN:VTIMEZONE
TZID:America/Chicago
BEGIN:DAYLIGHT
TZOFFSETFROM:-0600
TZOFFSETTO:-0500
TZNAME:CDT
DTSTART:20250309T080000
END:DAYLIGHT
BEGIN:STANDARD
TZOFFSETFROM:-0500
TZOFFSETTO:-0600
TZNAME:CST
DTSTART:20251102T070000
END:STANDARD
BEGIN:DAYLIGHT
TZOFFSETFROM:-0600
TZOFFSETTO:-0500
TZNAME:CDT
DTSTART:20260308T080000
END:DAYLIGHT
BEGIN:STANDARD
TZOFFSETFROM:-0500
TZOFFSETTO:-0600
TZNAME:CST
DTSTART:20261101T070000
END:STANDARD
BEGIN:DAYLIGHT
TZOFFSETFROM:-0600
TZOFFSETTO:-0500
TZNAME:CDT
DTSTART:20270314T080000
END:DAYLIGHT
BEGIN:STANDARD
TZOFFSETFROM:-0500
TZOFFSETTO:-0600
TZNAME:CST
DTSTART:20271107T070000
END:STANDARD
END:VTIMEZONE
BEGIN:VEVENT
DTSTART;TZID=America/Chicago:20260424T180000
DTEND;TZID=America/Chicago:20260424T210000
DTSTAMP:20260423T112954
CREATED:20260126T185652Z
LAST-MODIFIED:20260126T185658Z
UID:1089-1777053600-1777064400@thecozyrosy.com
SUMMARY:Hanan Browning
DESCRIPTION:Hanan’s artistic identity is defined by musical versatility and emotional storytelling. He describes his sound as “rural progressive” – an acoustic-based\, lyrically rich blend of folk\, soul\, progressive rock\, Americana and classic country. This unique mix reflects a wide spectrum of influences. One can hear echoes of folk troubadours\, Southern rock\, classic country\, jazz and R&B in his songs. “Versatility is [his] game\,” wrote Lagniappe\, noting that Hanan effortlessly floats between genres depending on the mood. Lyrically\, Hanan’s songwriting is heartfelt and introspective\, often rooted in personal experience and a desire to connect. “It always starts with feel…with an emotion inside of me that must be expressed outwardly and musically\,” Hanan has said of his notoriously intensive writing process. His major influences include Hall and Oates\, Paul Simon\, Kris Kristofferson\, Johnny Cash\, Elvis Costello\, The Grateful Dead\, George Strait\, The Eagles\, and The Counting Crows.
URL:https://thecozyrosy.com/event/hanan-browning/
END:VEVENT
BEGIN:VEVENT
DTSTART;TZID=America/Chicago:20260425T180000
DTEND;TZID=America/Chicago:20260425T210000
DTSTAMP:20260423T112954
CREATED:20260126T185842Z
LAST-MODIFIED:20260126T185847Z
UID:1091-1777140000-1777150800@thecozyrosy.com
SUMMARY:Big Al & the Heavyweights
DESCRIPTION:Big Al and the Heavyweights originally formed in 1996 as the Unknown Blues Band\, with founding members Al Lauro\, Warren Haynes (Allman Brothers Band and Gov’t Mule)\, and pianist Rick Gergen (Sweethearts of the Rodeo). Of course\, Warren is no longer in the band but Big Al has formed a solid array of musicians that features guitarist vocalist extraordinaire Marcel Anton\, Dennis “the menace” Cedeno from Brooklyn NY\, and harp player\, vocalist from Detroit Dangerous Dale Robinson \n\n\n\nThe latest recording “Love One Another” (Vizztone Label Group) includes special musical guests Luther Dickinson of the North MS Allstars and former Heavyweight and harmonica virtuoso\, Jason Ricci. \n\n\n\n“Love One Another” was recorded at famed Suite Mix Studios in Slidell\, LA with George Curreau Jr engineering and producing who is noted for Funky Meters guitarist Brian Stoltz’s numerous recording projects. The album charted at # 19 on the Living Blues Charts and #15 on The North American College & Community Radio Chart and # 8 on the Roots Music Blues Chart . \n\n\n\nBig Al and the Heavyweights’ live performances are family oriented\, energetic and most of all fun. This is a show you don’t want to miss!
URL:https://thecozyrosy.com/event/big-al-the-heavyweights/
END:VEVENT
END:VCALENDAR